BEGIN:VCALENDAR
VERSION:2.0
PRODID:-//Ortsgemeinde Irmtraut - ECPv6.5.1.4//NONSGML v1.0//EN
CALSCALE:GREGORIAN
METHOD:PUBLISH
X-ORIGINAL-URL:https://irmtraut.de
X-WR-CALDESC:Veranstaltungen für Ortsgemeinde Irmtraut
REFRESH-INTERVAL;VALUE=DURATION:PT1H
X-Robots-Tag:noindex
X-PUBLISHED-TTL:PT1H
BEGIN:VTIMEZONE
TZID:Europe/Paris
BEGIN:DAYLIGHT
TZOFFSETFROM:+0100
TZOFFSETTO:+0200
TZNAME:CEST
DTSTART:20240331T010000
END:DAYLIGHT
BEGIN:STANDARD
TZOFFSETFROM:+0200
TZOFFSETTO:+0100
TZNAME:CET
DTSTART:20241027T010000
END:STANDARD
END:VTIMEZONE
BEGIN:VEVENT
DTSTART;VALUE=DATE:20241111
DTEND;VALUE=DATE:20241112
DTSTAMP:20260420T105839
CREATED:20211227T092652Z
LAST-MODIFIED:20240315T173609Z
UID:599-1731283200-1731369599@irmtraut.de
SUMMARY:Martinszug
DESCRIPTION:
URL:https://irmtraut.de/event/martinszug/
LOCATION:Kirchplatz\, Irmtraut\, 56479
ATTACH;FMTTYPE=image/jpeg:https://irmtraut.de/wp-content/uploads/2024/03/dark-2562176_1920.jpg
ORGANIZER;CN="Ortsgemeinde Irmtraut":MAILTO:ortsgemeinde@irmtraut.de
END:VEVENT
END:VCALENDAR