BEGIN:VCALENDAR
VERSION:2.0
PRODID:-//Ortsgemeinde Irmtraut - ECPv6.5.1.4//NONSGML v1.0//EN
CALSCALE:GREGORIAN
METHOD:PUBLISH
X-ORIGINAL-URL:https://irmtraut.de
X-WR-CALDESC:Veranstaltungen für Ortsgemeinde Irmtraut
REFRESH-INTERVAL;VALUE=DURATION:PT1H
X-Robots-Tag:noindex
X-PUBLISHED-TTL:PT1H
BEGIN:VTIMEZONE
TZID:Europe/Paris
BEGIN:DAYLIGHT
TZOFFSETFROM:+0100
TZOFFSETTO:+0200
TZNAME:CEST
DTSTART:20250330T010000
END:DAYLIGHT
BEGIN:STANDARD
TZOFFSETFROM:+0200
TZOFFSETTO:+0100
TZNAME:CET
DTSTART:20251026T010000
END:STANDARD
END:VTIMEZONE
BEGIN:VEVENT
DTSTART;TZID=Europe/Paris:20251130T180000
DTEND;TZID=Europe/Paris:20251130T200000
DTSTAMP:20260421T044716
CREATED:20251029T170158Z
LAST-MODIFIED:20251029T170308Z
UID:2601-1764525600-1764532800@irmtraut.de
SUMMARY:1. Adventsfenster am Rathaus
DESCRIPTION:Wie in den Vorjahren schmückt die Frauengemeinschaft Irmtraut wieder die Fenster des Sitzungsraumes am Rathaus als Adventsfenster. Das erste Fenster mit dem Fensterschmuck wird am 1. Adventsonntag\, den 30. November 2025 um 18.00 Uhr feierlich eröffnet werden.  Anschließend kommt an jedem Adventsonntag jeweils um 18.00 Uhr ein weiteres Fenster hinzu. „Wir sagen euch an\, den lieben Advent“\, so singen die Teilnehmer und beim gemeinsamen Plausch gibt es ein Glas Glühwein zum Erwärmen. Eine schöne Zusammenkunft\, um sich auf den Advent und das bevorstehende Weihnachtsfest in der Gemeinschaft einzustimmen. Die Ortsgemeinde und die Frauengemeinschaft laden herzlich dazu ein. Schön wäre es auch\, wenn Einwohner der Gemeinde mit ihren Musikinstrumenten den Gesang unterstützen würden.
URL:https://irmtraut.de/event/1-adventsfenster-am-rathaus/
LOCATION:Rathaus\, Kirchplatz 1\, Irmtraut\, 56479\, Deutschland
ATTACH;FMTTYPE=image/jpeg:https://irmtraut.de/wp-content/uploads/2022/01/IMG_1279-scaled.jpg
END:VEVENT
END:VCALENDAR