BEGIN:VCALENDAR
VERSION:2.0
PRODID:-//Ortsgemeinde Irmtraut - ECPv6.5.1.4//NONSGML v1.0//EN
CALSCALE:GREGORIAN
METHOD:PUBLISH
X-WR-CALNAME:Ortsgemeinde Irmtraut
X-ORIGINAL-URL:https://irmtraut.de
X-WR-CALDESC:Veranstaltungen für Ortsgemeinde Irmtraut
REFRESH-INTERVAL;VALUE=DURATION:PT1H
X-Robots-Tag:noindex
X-PUBLISHED-TTL:PT1H
BEGIN:VTIMEZONE
TZID:Europe/Paris
BEGIN:DAYLIGHT
TZOFFSETFROM:+0100
TZOFFSETTO:+0200
TZNAME:CEST
DTSTART:20250330T010000
END:DAYLIGHT
BEGIN:STANDARD
TZOFFSETFROM:+0200
TZOFFSETTO:+0100
TZNAME:CET
DTSTART:20251026T010000
END:STANDARD
END:VTIMEZONE
BEGIN:VEVENT
DTSTART;TZID=Europe/Paris:20251111T173000
DTEND;TZID=Europe/Paris:20251111T230000
DTSTAMP:20260420T220541
CREATED:20251029T165205Z
LAST-MODIFIED:20251029T165317Z
UID:2593-1762882200-1762902000@irmtraut.de
SUMMARY:Martinszug
DESCRIPTION:Am Dienstag\, den 11. November 2025 findet in Zusammenarbeit von Kirchen- und Ortsgemeinde wieder der Martinszug statt. Nach der Andacht in der Kirche um 17:30 Uhr geht der Martinszug vom Kirchplatz zum Martinsfeuer. Für die teilnehmenden Kinder gibt es selbstverständlich von der Gemeinde eine Martinsbrezel. Der Förderverein der Freiwilligen Feuerwehr wird wie in den Vorjahren wieder heiße Getränke und Würstchen am Martinsfeuer anbieten
URL:https://irmtraut.de/event/martinszug-2/
LOCATION:Martinsfeuer hinter dem Friedhof\, Irmtraut\, 56479
ATTACH;FMTTYPE=image/jpeg:https://irmtraut.de/wp-content/uploads/2024/03/dark-2562176_1920.jpg
ORGANIZER;CN="F%C3%B6rderverein FFW":MAILTO:feuerwehr.irmtraut@rz-online.de
END:VEVENT
END:VCALENDAR