BEGIN:VCALENDAR
VERSION:2.0
PRODID:-//Ortsgemeinde Irmtraut - ECPv6.5.1.4//NONSGML v1.0//EN
CALSCALE:GREGORIAN
METHOD:PUBLISH
X-WR-CALNAME:Ortsgemeinde Irmtraut
X-ORIGINAL-URL:https://irmtraut.de
X-WR-CALDESC:Veranstaltungen für Ortsgemeinde Irmtraut
REFRESH-INTERVAL;VALUE=DURATION:PT1H
X-Robots-Tag:noindex
X-PUBLISHED-TTL:PT1H
BEGIN:VTIMEZONE
TZID:Europe/Paris
BEGIN:DAYLIGHT
TZOFFSETFROM:+0100
TZOFFSETTO:+0200
TZNAME:CEST
DTSTART:20250330T010000
END:DAYLIGHT
BEGIN:STANDARD
TZOFFSETFROM:+0200
TZOFFSETTO:+0100
TZNAME:CET
DTSTART:20251026T010000
END:STANDARD
END:VTIMEZONE
BEGIN:VEVENT
DTSTART;TZID=Europe/Paris:20250913T190000
DTEND;TZID=Europe/Paris:20250915T233000
DTSTAMP:20260420T105158
CREATED:20240307T165914Z
LAST-MODIFIED:20250311T135736Z
UID:1836-1757790000-1757979000@irmtraut.de
SUMMARY:Kirmes Irmtraut
DESCRIPTION:Weitere Infos zum Programm folgen
URL:https://irmtraut.de/event/kirmes-irmtraut/
LOCATION:Carl-Lefknecht-Halle\, Schulstraße 8\, Irmtraut\, 56479
ATTACH;FMTTYPE=image/jpeg:https://irmtraut.de/wp-content/uploads/2024/03/6CF8263D-F98E-4B5E-BD38-E9655BE00949_1_105_c.jpeg
END:VEVENT
END:VCALENDAR