BEGIN:VCALENDAR
VERSION:2.0
PRODID:-//Ortsgemeinde Irmtraut - ECPv6.5.1.4//NONSGML v1.0//EN
CALSCALE:GREGORIAN
METHOD:PUBLISH
X-WR-CALNAME:Ortsgemeinde Irmtraut
X-ORIGINAL-URL:https://irmtraut.de
X-WR-CALDESC:Veranstaltungen für Ortsgemeinde Irmtraut
REFRESH-INTERVAL;VALUE=DURATION:PT1H
X-Robots-Tag:noindex
X-PUBLISHED-TTL:PT1H
BEGIN:VTIMEZONE
TZID:Europe/Paris
BEGIN:DAYLIGHT
TZOFFSETFROM:+0100
TZOFFSETTO:+0200
TZNAME:CEST
DTSTART:20240331T010000
END:DAYLIGHT
BEGIN:STANDARD
TZOFFSETFROM:+0200
TZOFFSETTO:+0100
TZNAME:CET
DTSTART:20241027T010000
END:STANDARD
END:VTIMEZONE
BEGIN:VEVENT
DTSTART;TZID=Europe/Paris:20240915T140000
DTEND;TZID=Europe/Paris:20240915T160000
DTSTAMP:20260421T040130
CREATED:20240802T082231Z
LAST-MODIFIED:20240802T082253Z
UID:2343-1726408800-1726416000@irmtraut.de
SUMMARY:Herbstbasar für Selbstanbieter
DESCRIPTION:Details im Plakat
URL:https://irmtraut.de/event/herbstbasar-fuer-selbstanbieter/
LOCATION:Carl-Lefknecht-Halle\, Schulstraße 8\, Irmtraut\, 56479
ATTACH;FMTTYPE=image/jpeg:https://irmtraut.de/wp-content/uploads/2024/08/WhatsApp-Image-2024-08-02-at-10.11.06.jpeg
END:VEVENT
END:VCALENDAR